View In:
ArcGIS JavaScript
ArcGIS Online Map Viewer
ArcGIS Earth
Service Description: Fsty14/Fsty14WoodlandClipped
Name: Fsty14/Fsty14WoodlandClipped
Description:
Single Fused Map Cache: false
Extent:
XMin: 732310.08
YMin: 4888000.0
XMax: 734235.04
YMax: 4890715.04
Spatial Reference: 2150
(2958)
LatestVCSWkid(0)
Initial Extent:
XMin: 732310.08
YMin: 4888000.0
XMax: 734235.04
YMax: 4890715.04
Spatial Reference: 2150
(2958)
LatestVCSWkid(0)
Full Extent:
XMin: 732310.08
YMin: 4888000.0
XMax: 734235.04
YMax: 4890715.04
Spatial Reference: 2150
(2958)
LatestVCSWkid(0)
Pixel Size X: 0.16000000000000658
Pixel Size Y: 0.1600000000000022
Band Count: 4
Pixel Type: U16
RasterFunction Infos: {"rasterFunctionInfos": [{
"name": "None",
"description": "",
"help": ""
}]}
Mensuration Capabilities: Basic
Inspection Capabilities:
Has Histograms: true
Has Colormap: false
Has Multi Dimensions : false
Rendering Rule:
Min Scale: 0
Max Scale: 0
Copyright Text:
Service Data Type: esriImageServiceDataTypeGeneric
Min Values: 0, 0, 0, 15
Max Values: 255, 255, 255, 255
Mean Values: 72.382383125706, 81.98344475277, 68.636664922176, 123.50916411277
Standard Deviation Values: 34.140436813376, 33.414870457212, 28.079354738619, 32.135490017329
Object ID Field:
Fields:
None
Default Mosaic Method: Center
Allowed Mosaic Methods:
SortField:
SortValue: null
Mosaic Operator: First
Default Compression Quality: 75
Default Resampling Method: Bilinear
Max Record Count: null
Max Image Height: 4100
Max Image Width: 15000
Max Download Image Count: null
Max Mosaic Image Count: null
Allow Raster Function: true
Allow Copy: true
Allow Analysis: true
Allow Compute TiePoints: false
Supports Statistics: false
Supports Advanced Queries: false
Use StandardizedQueries: true
Raster Type Infos:
Name: Raster Dataset
Description: Supports all ArcGIS Raster Datasets
Help:
Has Raster Attribute Table: false
Edit Fields Info: null
Ownership Based AccessControl For Rasters: null
Child Resources:
Info
Histograms
Statistics
Key Properties
Legend
Raster Function Infos
Supported Operations:
Export Image
Identify
Measure
Compute Histograms
Compute Statistics Histograms
Get Samples
Compute Class Statistics
Query Boundary
Compute Pixel Location
Compute Angles
Validate
Project